BEGIN:VCALENDAR
VERSION:2.0
PRODID:-//Kapela Lážo Plážo - ECPv6.15.17.1//NONSGML v1.0//EN
CALSCALE:GREGORIAN
METHOD:PUBLISH
X-WR-CALNAME:Kapela Lážo Plážo
X-ORIGINAL-URL:https://www.lazoplazo.net
X-WR-CALDESC:Akce na Kapela Lážo Plážo
REFRESH-INTERVAL;VALUE=DURATION:PT1H
X-Robots-Tag:noindex
X-PUBLISHED-TTL:PT1H
BEGIN:VTIMEZONE
TZID:Europe/Prague
BEGIN:DAYLIGHT
TZOFFSETFROM:+0100
TZOFFSETTO:+0200
TZNAME:CEST
DTSTART:20220327T010000
END:DAYLIGHT
BEGIN:STANDARD
TZOFFSETFROM:+0200
TZOFFSETTO:+0100
TZNAME:CET
DTSTART:20221030T010000
END:STANDARD
BEGIN:DAYLIGHT
TZOFFSETFROM:+0100
TZOFFSETTO:+0200
TZNAME:CEST
DTSTART:20230326T010000
END:DAYLIGHT
BEGIN:STANDARD
TZOFFSETFROM:+0200
TZOFFSETTO:+0100
TZNAME:CET
DTSTART:20231029T010000
END:STANDARD
BEGIN:DAYLIGHT
TZOFFSETFROM:+0100
TZOFFSETTO:+0200
TZNAME:CEST
DTSTART:20240331T010000
END:DAYLIGHT
BEGIN:STANDARD
TZOFFSETFROM:+0200
TZOFFSETTO:+0100
TZNAME:CET
DTSTART:20241027T010000
END:STANDARD
END:VTIMEZONE
BEGIN:VEVENT
DTSTART;VALUE=DATE:20230603
DTEND;VALUE=DATE:20230604
DTSTAMP:20260425T204232
CREATED:20230401T174037Z
LAST-MODIFIED:20230401T174037Z
UID:136-1685750400-1685836799@www.lazoplazo.net
SUMMARY:Křenovický Rakovec
DESCRIPTION:
URL:https://www.lazoplazo.net/koncert/krenovicky-rakovec/
LOCATION:Křenovice
END:VEVENT
BEGIN:VEVENT
DTSTART;TZID=Europe/Prague:20230521T180000
DTEND;TZID=Europe/Prague:20230521T185000
DTSTAMP:20260425T204232
CREATED:20230401T173910Z
LAST-MODIFIED:20230401T173910Z
UID:132-1684692000-1684695000@www.lazoplazo.net
SUMMARY:Ve stínu vodárenské věže 2023
DESCRIPTION:
URL:https://www.lazoplazo.net/koncert/ve-stinu-vodarenske-veze-2023/
LOCATION:Nymburk\, Jízdecká\, Nymburk\, Česká republika
ATTACH;FMTTYPE=image/jpeg:https://www.lazoplazo.net/wp-content/uploads/2023/04/stin-veze-57.jpg
END:VEVENT
BEGIN:VEVENT
DTSTART;VALUE=DATE:20230508
DTEND;VALUE=DATE:20230509
DTSTAMP:20260425T204232
CREATED:20230401T173512Z
LAST-MODIFIED:20230401T173512Z
UID:130-1683504000-1683590399@www.lazoplazo.net
SUMMARY:Lodě na Labi 2023
DESCRIPTION:Info doplníme
URL:https://www.lazoplazo.net/koncert/lode-na-labi-2023/
LOCATION:Nymburk\, Jízdecká\, Nymburk\, Česká republika
END:VEVENT
BEGIN:VEVENT
DTSTART;VALUE=DATE:20230428
DTEND;VALUE=DATE:20230429
DTSTAMP:20260425T204232
CREATED:20230401T173423Z
LAST-MODIFIED:20230401T173423Z
UID:127-1682640000-1682726399@www.lazoplazo.net
SUMMARY:Čarodějnice Nymburk
DESCRIPTION:
URL:https://www.lazoplazo.net/koncert/carodejnice-nymburk/
LOCATION:Nymburk\, Jízdecká\, Nymburk\, Česká republika
END:VEVENT
BEGIN:VEVENT
DTSTART;VALUE=DATE:20230422
DTEND;VALUE=DATE:20230423
DTSTAMP:20260425T204232
CREATED:20230401T173348Z
LAST-MODIFIED:20230401T173348Z
UID:124-1682121600-1682207999@www.lazoplazo.net
SUMMARY:Stodola u Majdy
DESCRIPTION:
URL:https://www.lazoplazo.net/koncert/stodola-u-majdy/
LOCATION:Číměř
END:VEVENT
BEGIN:VEVENT
DTSTART;VALUE=DATE:20230415
DTEND;VALUE=DATE:20230416
DTSTAMP:20260425T204232
CREATED:20230401T171800Z
LAST-MODIFIED:20230401T171800Z
UID:113-1681516800-1681603199@www.lazoplazo.net
SUMMARY:Lážo Plážo v Liberci
DESCRIPTION:Info doplníme\, hrajeme na pozvání kamarádů ze skupiny Klekni.
URL:https://www.lazoplazo.net/koncert/lazo-plazo-v-liberci/
LOCATION:Liberec
END:VEVENT
END:VCALENDAR