BEGIN:VCALENDAR
VERSION:2.0
PRODID:-//Kapela Lážo Plážo - ECPv6.15.17.1//NONSGML v1.0//EN
CALSCALE:GREGORIAN
METHOD:PUBLISH
X-WR-CALNAME:Kapela Lážo Plážo
X-ORIGINAL-URL:https://www.lazoplazo.net
X-WR-CALDESC:Akce na Kapela Lážo Plážo
REFRESH-INTERVAL;VALUE=DURATION:PT1H
X-Robots-Tag:noindex
X-PUBLISHED-TTL:PT1H
BEGIN:VTIMEZONE
TZID:Europe/Prague
BEGIN:DAYLIGHT
TZOFFSETFROM:+0100
TZOFFSETTO:+0200
TZNAME:CEST
DTSTART:20230326T010000
END:DAYLIGHT
BEGIN:STANDARD
TZOFFSETFROM:+0200
TZOFFSETTO:+0100
TZNAME:CET
DTSTART:20231029T010000
END:STANDARD
BEGIN:DAYLIGHT
TZOFFSETFROM:+0100
TZOFFSETTO:+0200
TZNAME:CEST
DTSTART:20240331T010000
END:DAYLIGHT
BEGIN:STANDARD
TZOFFSETFROM:+0200
TZOFFSETTO:+0100
TZNAME:CET
DTSTART:20241027T010000
END:STANDARD
BEGIN:DAYLIGHT
TZOFFSETFROM:+0100
TZOFFSETTO:+0200
TZNAME:CEST
DTSTART:20250330T010000
END:DAYLIGHT
BEGIN:STANDARD
TZOFFSETFROM:+0200
TZOFFSETTO:+0100
TZNAME:CET
DTSTART:20251026T010000
END:STANDARD
BEGIN:DAYLIGHT
TZOFFSETFROM:+0100
TZOFFSETTO:+0200
TZNAME:CEST
DTSTART:20260329T010000
END:DAYLIGHT
BEGIN:STANDARD
TZOFFSETFROM:+0200
TZOFFSETTO:+0100
TZNAME:CET
DTSTART:20261025T010000
END:STANDARD
BEGIN:DAYLIGHT
TZOFFSETFROM:+0100
TZOFFSETTO:+0200
TZNAME:CEST
DTSTART:20270328T010000
END:DAYLIGHT
BEGIN:STANDARD
TZOFFSETFROM:+0200
TZOFFSETTO:+0100
TZNAME:CET
DTSTART:20271031T010000
END:STANDARD
END:VTIMEZONE
BEGIN:VEVENT
DTSTART;VALUE=DATE:20260401
DTEND;VALUE=DATE:20260402
DTSTAMP:20260425T175022
CREATED:20260223T110549Z
LAST-MODIFIED:20260223T110549Z
UID:759-1775001600-1775087999@www.lazoplazo.net
SUMMARY:Liberec\, Lidové sady (s kapelou Klekni)
DESCRIPTION:
URL:https://www.lazoplazo.net/koncert/liberec-lidove-sady-s-kapelou-klekni/
END:VEVENT
BEGIN:VEVENT
DTSTART;VALUE=DATE:20260311
DTEND;VALUE=DATE:20260312
DTSTAMP:20260425T175022
CREATED:20260223T110456Z
LAST-MODIFIED:20260223T110726Z
UID:757-1773187200-1773273599@www.lazoplazo.net
SUMMARY:Praha\, Carpe Diem (s Davidem Šitavancem)
DESCRIPTION:
URL:https://www.lazoplazo.net/koncert/carpe-diem-praha-s-davidem-sitavancem/
END:VEVENT
BEGIN:VEVENT
DTSTART;VALUE=DATE:20260306
DTEND;VALUE=DATE:20260307
DTSTAMP:20260425T175022
CREATED:20260223T110255Z
LAST-MODIFIED:20260223T121110Z
UID:755-1772755200-1772841599@www.lazoplazo.net
SUMMARY:Nymburk\, Lážo Plážo v kavárně Café Society (akusticky)
DESCRIPTION:
URL:https://www.lazoplazo.net/koncert/lazo-plazo-v-kavarne-cafe-society-nymburk/
END:VEVENT
BEGIN:VEVENT
DTSTART;VALUE=DATE:20251129
DTEND;VALUE=DATE:20251201
DTSTAMP:20260425T175022
CREATED:20241202T113334Z
LAST-MODIFIED:20241202T113334Z
UID:718-1764374400-1764547199@www.lazoplazo.net
SUMMARY:Křižanovský Vaťák 2025
DESCRIPTION:…informace budou doplněny…
URL:https://www.lazoplazo.net/koncert/krizanovsky-vatak-2025/
END:VEVENT
BEGIN:VEVENT
DTSTART;VALUE=DATE:20251017
DTEND;VALUE=DATE:20251018
DTSTAMP:20260425T175022
CREATED:20241202T113303Z
LAST-MODIFIED:20241202T113303Z
UID:716-1760659200-1760745599@www.lazoplazo.net
SUMMARY:LžPž a Crossband v Balbínce
DESCRIPTION:…informace budou doplněny…
URL:https://www.lazoplazo.net/koncert/lzpz-a-crossband-v-balbince/
END:VEVENT
BEGIN:VEVENT
DTSTART;VALUE=DATE:20250913
DTEND;VALUE=DATE:20250914
DTSTAMP:20260425T175022
CREATED:20241202T113146Z
LAST-MODIFIED:20241202T113146Z
UID:712-1757721600-1757807999@www.lazoplazo.net
SUMMARY:Stratovské slavnosti
DESCRIPTION:…informace budou doplněny…
URL:https://www.lazoplazo.net/koncert/stratovske-slavnosti/
END:VEVENT
BEGIN:VEVENT
DTSTART;VALUE=DATE:20250906
DTEND;VALUE=DATE:20250907
DTSTAMP:20260425T175022
CREATED:20241202T113122Z
LAST-MODIFIED:20241202T113122Z
UID:710-1757116800-1757203199@www.lazoplazo.net
SUMMARY:Posvícení Nymburk
DESCRIPTION:…informace budou doplněny…
URL:https://www.lazoplazo.net/koncert/posviceni-nymburk/
END:VEVENT
BEGIN:VEVENT
DTSTART;VALUE=DATE:20250830
DTEND;VALUE=DATE:20250831
DTSTAMP:20260425T175022
CREATED:20241202T113049Z
LAST-MODIFIED:20241202T113049Z
UID:708-1756512000-1756598399@www.lazoplazo.net
SUMMARY:Lysá n/L zámecké terasy
DESCRIPTION:…informace budou doplněny…
URL:https://www.lazoplazo.net/koncert/lysa-n-l-zamecke-terasy/
END:VEVENT
BEGIN:VEVENT
DTSTART;VALUE=DATE:20250823
DTEND;VALUE=DATE:20250824
DTSTAMP:20260425T175022
CREATED:20241202T113013Z
LAST-MODIFIED:20241202T113013Z
UID:706-1755907200-1755993599@www.lazoplazo.net
SUMMARY:Festival Písty u Nymburka
DESCRIPTION:…informace budou doplněny…
URL:https://www.lazoplazo.net/koncert/festival-pisty-u-nymburka/
END:VEVENT
BEGIN:VEVENT
DTSTART;VALUE=DATE:20250809
DTEND;VALUE=DATE:20250810
DTSTAMP:20260425T175022
CREATED:20241202T112935Z
LAST-MODIFIED:20241202T112935Z
UID:704-1754697600-1754783999@www.lazoplazo.net
SUMMARY:Prázdniny v Telči
DESCRIPTION:…informace budou doplněny…
URL:https://www.lazoplazo.net/koncert/prazdniny-v-telci-2/
END:VEVENT
BEGIN:VEVENT
DTSTART;VALUE=DATE:20250726
DTEND;VALUE=DATE:20250727
DTSTAMP:20260425T175022
CREATED:20241202T112854Z
LAST-MODIFIED:20241202T112854Z
UID:702-1753488000-1753574399@www.lazoplazo.net
SUMMARY:Válcování u Strandi
DESCRIPTION:…informace budou doplněny…
URL:https://www.lazoplazo.net/koncert/valcovani-u-strandi/
END:VEVENT
BEGIN:VEVENT
DTSTART;VALUE=DATE:20250719
DTEND;VALUE=DATE:20250720
DTSTAMP:20260425T175022
CREATED:20241202T112826Z
LAST-MODIFIED:20241202T112826Z
UID:700-1752883200-1752969599@www.lazoplazo.net
SUMMARY:Festival Slovensko
DESCRIPTION:…informace budou doplněny…
URL:https://www.lazoplazo.net/koncert/festival-slovensko/
END:VEVENT
BEGIN:VEVENT
DTSTART;VALUE=DATE:20250628
DTEND;VALUE=DATE:20250629
DTSTAMP:20260425T175022
CREATED:20241202T112746Z
LAST-MODIFIED:20241202T112746Z
UID:698-1751068800-1751155199@www.lazoplazo.net
SUMMARY:Folk ve Lhotě
DESCRIPTION:…informace budou doplněny…
URL:https://www.lazoplazo.net/koncert/folk-ve-lhote-2/
END:VEVENT
BEGIN:VEVENT
DTSTART;VALUE=DATE:20250621
DTEND;VALUE=DATE:20250622
DTSTAMP:20260425T175022
CREATED:20241202T112718Z
LAST-MODIFIED:20241202T112718Z
UID:696-1750464000-1750550399@www.lazoplazo.net
SUMMARY:Festival Perštejn
DESCRIPTION:…informace budou doplněny…
URL:https://www.lazoplazo.net/koncert/festival-perstejn/
END:VEVENT
BEGIN:VEVENT
DTSTART;VALUE=DATE:20250524
DTEND;VALUE=DATE:20250525
DTSTAMP:20260425T175022
CREATED:20241202T112626Z
LAST-MODIFIED:20241202T112645Z
UID:694-1748044800-1748131199@www.lazoplazo.net
SUMMARY:Březník 2025 s Passage
DESCRIPTION:…informace budou doplněny…
URL:https://www.lazoplazo.net/koncert/breznik-2025-s-passage/
END:VEVENT
BEGIN:VEVENT
DTSTART;VALUE=DATE:20250425
DTEND;VALUE=DATE:20250426
DTSTAMP:20260425T175022
CREATED:20241202T112538Z
LAST-MODIFIED:20241202T112538Z
UID:692-1745539200-1745625599@www.lazoplazo.net
SUMMARY:LžPž + Spolektiv
DESCRIPTION:…informace budou doplněny…
URL:https://www.lazoplazo.net/koncert/lzpz-spolektiv/
END:VEVENT
BEGIN:VEVENT
DTSTART;VALUE=DATE:20250412
DTEND;VALUE=DATE:20250413
DTSTAMP:20260425T175022
CREATED:20241202T112411Z
LAST-MODIFIED:20241202T112438Z
UID:689-1744416000-1744502399@www.lazoplazo.net
SUMMARY:DubenFest 2025
DESCRIPTION:…informace budou doplněny…
URL:https://www.lazoplazo.net/koncert/dubenfest-2024/
END:VEVENT
BEGIN:VEVENT
DTSTART;VALUE=DATE:20250301
DTEND;VALUE=DATE:20250302
DTSTAMP:20260425T175022
CREATED:20241202T113601Z
LAST-MODIFIED:20241202T113601Z
UID:720-1740787200-1740873599@www.lazoplazo.net
SUMMARY:LžPž koncert v rámci soukromé oslavy
DESCRIPTION:
URL:https://www.lazoplazo.net/koncert/lzpz-koncert-v-ramci-soukrome-oslavy/
END:VEVENT
BEGIN:VEVENT
DTSTART;TZID=Europe/Prague:20241130T125700
DTEND;TZID=Europe/Prague:20241130T235900
DTSTAMP:20260425T175022
CREATED:20241007T112046Z
LAST-MODIFIED:20241007T112046Z
UID:660-1732971420-1733011140@www.lazoplazo.net
SUMMARY:Křižanovský Vaťák 2024
DESCRIPTION:Poslední letní festival\, úžasná akce pod širým nebem a večer v Restauraci Beseda…
URL:https://www.lazoplazo.net/koncert/krizanovsky-vatak-2024/
LOCATION:Hrob u Křižanova\, sádky U Tří louží\, Hrob
END:VEVENT
BEGIN:VEVENT
DTSTART;TZID=Europe/Prague:20241109T190000
DTEND;TZID=Europe/Prague:20241109T233000
DTSTAMP:20260425T175022
CREATED:20240326T101744Z
LAST-MODIFIED:20241007T104257Z
UID:549-1731178800-1731195000@www.lazoplazo.net
SUMMARY:Výroční koncert skupiny Lážo Plážo + hosté\, křest nového CD
DESCRIPTION:
URL:https://www.lazoplazo.net/koncert/vyrocni-koncert-skupiny-lazo-plazo-hoste-krest-noveho-cd/
LOCATION:Nymburk\, Tyršova 5\, Hálkovo městské divadlo
ATTACH;FMTTYPE=image/jpeg:https://www.lazoplazo.net/wp-content/uploads/2024/09/lazo_plazo_plakat_20let_v1.jpg
END:VEVENT
BEGIN:VEVENT
DTSTART;TZID=Europe/Prague:20241102T190000
DTEND;TZID=Europe/Prague:20241102T220000
DTSTAMP:20260425T175022
CREATED:20240326T101625Z
LAST-MODIFIED:20240326T101625Z
UID:547-1730574000-1730584800@www.lazoplazo.net
SUMMARY:Stodola u Majdy\, koncert
DESCRIPTION:
URL:https://www.lazoplazo.net/koncert/stodola-u-majdy-koncert/
LOCATION:Číměř
END:VEVENT
BEGIN:VEVENT
DTSTART;TZID=Europe/Prague:20240921T160000
DTEND;TZID=Europe/Prague:20240921T220000
DTSTAMP:20260425T175022
CREATED:20240326T101507Z
LAST-MODIFIED:20240326T101507Z
UID:545-1726934400-1726956000@www.lazoplazo.net
SUMMARY:Setkání přátel JN 2024
DESCRIPTION:
URL:https://www.lazoplazo.net/koncert/setkani-pratel-jn-2024/
LOCATION:Oldřichov v Hájích\, Hausmanka u Kozy
END:VEVENT
BEGIN:VEVENT
DTSTART;VALUE=DATE:20240914
DTEND;VALUE=DATE:20240915
DTSTAMP:20260425T175022
CREATED:20240326T164640Z
LAST-MODIFIED:20240326T164640Z
UID:588-1726272000-1726358399@www.lazoplazo.net
SUMMARY:Festival Mimoň
DESCRIPTION:zatím v jednání\, info doplníme
URL:https://www.lazoplazo.net/koncert/festival-mimon/
LOCATION:Mimoň
END:VEVENT
BEGIN:VEVENT
DTSTART;TZID=Europe/Prague:20240907T170000
DTEND;TZID=Europe/Prague:20240907T200000
DTSTAMP:20260425T175022
CREATED:20240326T101349Z
LAST-MODIFIED:20240326T101349Z
UID:543-1725728400-1725739200@www.lazoplazo.net
SUMMARY:Slavnosti Stratov
DESCRIPTION:
URL:https://www.lazoplazo.net/koncert/slavnosti-stratov/
LOCATION:Stratov
END:VEVENT
BEGIN:VEVENT
DTSTART;TZID=Europe/Prague:20240831T130000
DTEND;TZID=Europe/Prague:20240831T200000
DTSTAMP:20260425T175022
CREATED:20240326T101242Z
LAST-MODIFIED:20240424T054635Z
UID:540-1725109200-1725134400@www.lazoplazo.net
SUMMARY:Folkování pod tratí vol. 2
DESCRIPTION:Zveme vás na 2. ročník folkového festivalu v Železné Rudě\, na Šumavě\, který se koná poslední srpnovou sobotu\, 31. srpna 2024. \nNa festivale s názvem Folkování pod tratí se můžete těšit na přední českou folkovou kapelu Nezmaři nebo také skupiny Mandalu\, Lážo Plážo či Devítku. Kompletní program najdete na webu https://www.folkovanipodtrati.cz/ \nNajdete nás v areálu fotbalového hřiště\, na adrese Ke hřišti 418\, 34004 Železná Ruda\, těšit se můžete také na (grilované) občerstvení + na čepu Plzeň 12° 0\,5 l za 39 Kč. \nVstupné 200 Kč. \nV areálu nebude možné platit kartou\, děkujeme za pochopení.
URL:https://www.lazoplazo.net/koncert/folkovani-pod-trati-2024/
LOCATION:Železná Ruda\, hřiště
END:VEVENT
BEGIN:VEVENT
DTSTART;TZID=Europe/Prague:20240802T170000
DTEND;TZID=Europe/Prague:20240802T190000
DTSTAMP:20260425T175022
CREATED:20240326T101054Z
LAST-MODIFIED:20240326T101054Z
UID:538-1722618000-1722625200@www.lazoplazo.net
SUMMARY:Prázdniny v Telči- Passage a Lážo Plážo
DESCRIPTION:
URL:https://www.lazoplazo.net/koncert/prazdniny-v-telci-passage-a-lazo-plazo/
LOCATION:Telč\, kocouří scéna
END:VEVENT
BEGIN:VEVENT
DTSTART;TZID=Europe/Prague:20240726T170000
DTEND;TZID=Europe/Prague:20240726T233000
DTSTAMP:20260425T175022
CREATED:20240326T100851Z
LAST-MODIFIED:20240326T100851Z
UID:536-1722013200-1722036600@www.lazoplazo.net
SUMMARY:Válcování u Strandi 2024
DESCRIPTION:
URL:https://www.lazoplazo.net/koncert/valcovani-u-strandi-2024/
LOCATION:Český Jiřetín
END:VEVENT
BEGIN:VEVENT
DTSTART;TZID=Europe/Prague:20240720T170000
DTEND;TZID=Europe/Prague:20240720T230000
DTSTAMP:20260425T175022
CREATED:20240326T100720Z
LAST-MODIFIED:20240326T114743Z
UID:533-1721494800-1721516400@www.lazoplazo.net
SUMMARY:Lážo Plážo+ David Šitavanc+ Alfík na Veslovce
DESCRIPTION:
URL:https://www.lazoplazo.net/koncert/lazo-plazo-david-sitavanc-alfik-na-veslovce/
LOCATION:Říční lázně nová VESLOVKA\, U přívozu 1840\, Brandýs nad Labem-Stará Boleslav 1
END:VEVENT
BEGIN:VEVENT
DTSTART;TZID=Europe/Prague:20240629T170000
DTEND;TZID=Europe/Prague:20240629T220000
DTSTAMP:20260425T175022
CREATED:20240326T100550Z
LAST-MODIFIED:20240326T100550Z
UID:530-1719680400-1719698400@www.lazoplazo.net
SUMMARY:Folk ve Lhotě 2024
DESCRIPTION:
URL:https://www.lazoplazo.net/koncert/folk-ve-lhote-2024/
LOCATION:Kostelní Lhota u rybníčku\, Nymburk
END:VEVENT
BEGIN:VEVENT
DTSTART;VALUE=DATE:20240531
DTEND;VALUE=DATE:20240603
DTSTAMP:20260425T175022
CREATED:20240326T100039Z
LAST-MODIFIED:20240326T100039Z
UID:524-1717113600-1717372799@www.lazoplazo.net
SUMMARY:Folkaliště 2024
DESCRIPTION:
URL:https://www.lazoplazo.net/koncert/folkaliste-2024/
END:VEVENT
END:VCALENDAR